BEGIN:VCALENDAR
VERSION:2.0
PRODID:-//Bremme + Hohensee Konzertagentur english - ECPv6.15.20//NONSGML v1.0//EN
CALSCALE:GREGORIAN
METHOD:PUBLISH
X-WR-CALNAME:Bremme + Hohensee Konzertagentur english
X-ORIGINAL-URL:https://bremme-hohensee.com
X-WR-CALDESC:Events for Bremme + Hohensee Konzertagentur english
REFRESH-INTERVAL;VALUE=DURATION:PT1H
X-Robots-Tag:noindex
X-PUBLISHED-TTL:PT1H
BEGIN:VTIMEZONE
TZID:Europe/Berlin
BEGIN:DAYLIGHT
TZOFFSETFROM:+0100
TZOFFSETTO:+0200
TZNAME:CEST
DTSTART:20240331T010000
END:DAYLIGHT
BEGIN:STANDARD
TZOFFSETFROM:+0200
TZOFFSETTO:+0100
TZNAME:CET
DTSTART:20241027T010000
END:STANDARD
BEGIN:DAYLIGHT
TZOFFSETFROM:+0100
TZOFFSETTO:+0200
TZNAME:CEST
DTSTART:20250330T010000
END:DAYLIGHT
BEGIN:STANDARD
TZOFFSETFROM:+0200
TZOFFSETTO:+0100
TZNAME:CET
DTSTART:20251026T010000
END:STANDARD
BEGIN:DAYLIGHT
TZOFFSETFROM:+0100
TZOFFSETTO:+0200
TZNAME:CEST
DTSTART:20260329T010000
END:DAYLIGHT
BEGIN:STANDARD
TZOFFSETFROM:+0200
TZOFFSETTO:+0100
TZNAME:CET
DTSTART:20261025T010000
END:STANDARD
END:VTIMEZONE
BEGIN:VEVENT
DTSTART;TZID=Europe/Berlin:20251030T200000
DTEND;TZID=Europe/Berlin:20251030T200000
DTSTAMP:20260422T164150
CREATED:20250724T124303Z
LAST-MODIFIED:20250724T125311Z
UID:3505-1761854400-1761854400@bremme-hohensee.com
SUMMARY:Tania Giannouli & Nils Petter Molvær in Ludwigshafen
DESCRIPTION:
URL:https://bremme-hohensee.com/event/tania-giannouli-nils-petter-molvaer-in-ludwigshafen-e/
LOCATION:Friedenskirche Ludwigshafen\, Leuschnerstraße 56\, Ludwigshafen\, 67063\, Germany
CATEGORIES:Giannouli
END:VEVENT
END:VCALENDAR